Package: maftools Version: 2.27.0 Command: rm -rf maftools.buildbin-libdir && mkdir maftools.buildbin-libdir && /Users/biocbuild/BBS/utils/build-universal.sh maftools_2.27.0.tar.gz /Library/Frameworks/R.framework/Resources/bin/R maftools.buildbin-libdir StartedAt: 2025-11-14 23:38:44 -0500 (Fri, 14 Nov 2025) EndedAt: 2025-11-14 23:38:54 -0500 (Fri, 14 Nov 2025) EllapsedTime: 10.2 seconds RetCode: 0 Status: OK PackageFile: maftools_2.27.0.tgz PackageFileSize: 13.04 MiB