Package: maftools Version: 2.27.0 Maintainer: Anand Mayakonda MaintainerEmail: anand_mt at hotmail.com git_url: https://git.bioconductor.org/packages/maftools git_branch: devel git_last_commit: 5abf2c6 git_last_commit_date: 2025-10-29 10:33:17 -0500 (Wed, 29 Oct 2025)