Package: made4 Version: 1.85.0 Command: /Library/Frameworks/R.framework/Resources/bin/R CMD INSTALL made4 StartedAt: 2025-11-14 15:13:27 -0500 (Fri, 14 Nov 2025) EndedAt: 2025-11-14 15:13:36 -0500 (Fri, 14 Nov 2025) EllapsedTime: 9.2 seconds RetCode: 0 Status: OK