Package: made4 Version: 1.85.0 Command: /Library/Frameworks/R.framework/Resources/bin/R CMD build --keep-empty-dirs --no-resave-data made4 StartedAt: 2025-11-14 16:48:58 -0500 (Fri, 14 Nov 2025) EndedAt: 2025-11-14 16:49:15 -0500 (Fri, 14 Nov 2025) EllapsedTime: 17.2 seconds RetCode: 0 Status: OK PackageFile: made4_1.85.0.tar.gz PackageFileSize: 2.511 MiB