Package: maaslin3 Version: 1.3.0 Command: /Library/Frameworks/R.framework/Resources/bin/R CMD INSTALL maaslin3 StartedAt: 2025-11-21 15:15:55 -0500 (Fri, 21 Nov 2025) EndedAt: 2025-11-21 15:16:07 -0500 (Fri, 21 Nov 2025) EllapsedTime: 12.0 seconds RetCode: 0 Status: OK