Package: maaslin3 Version: 1.3.0 Command: /Library/Frameworks/R.framework/Resources/bin/R CMD build --keep-empty-dirs --no-resave-data maaslin3 StartedAt: 2025-11-21 16:47:58 -0500 (Fri, 21 Nov 2025) EndedAt: 2025-11-21 16:51:38 -0500 (Fri, 21 Nov 2025) EllapsedTime: 220.5 seconds RetCode: 0 Status: OK PackageFile: maaslin3_1.3.0.tar.gz PackageFileSize: 1.089 MiB