Package: maaslin3 Version: 1.3.0 Command: rm -rf maaslin3.buildbin-libdir && mkdir maaslin3.buildbin-libdir && /Users/biocbuild/BBS/utils/build-universal.sh maaslin3_1.3.0.tar.gz /Library/Frameworks/R.framework/Resources/bin/R maaslin3.buildbin-libdir StartedAt: 2025-11-21 23:38:10 -0500 (Fri, 21 Nov 2025) EndedAt: 2025-11-21 23:38:25 -0500 (Fri, 21 Nov 2025) EllapsedTime: 15.4 seconds RetCode: 0 Status: OK PackageFile: maaslin3_1.3.0.tgz PackageFileSize: 1.264 MiB