Package: maSigPro Version: 1.83.0 Command: /home/biocbuild/bbs-3.23-bioc/R/bin/R CMD INSTALL maSigPro StartedAt: 2025-11-16 15:12:53 -0500 (Sun, 16 Nov 2025) EndedAt: 2025-11-16 15:12:57 -0500 (Sun, 16 Nov 2025) EllapsedTime: 4.4 seconds RetCode: 0 Status: OK