Package: maSigPro Version: 1.83.0 Command: /home/biocbuild/bbs-3.23-bioc/R/bin/R CMD build --keep-empty-dirs --no-resave-data maSigPro StartedAt: 2025-11-16 18:29:53 -0500 (Sun, 16 Nov 2025) EndedAt: 2025-11-16 18:30:00 -0500 (Sun, 16 Nov 2025) EllapsedTime: 7.0 seconds RetCode: 0 Status: OK PackageFile: maSigPro_1.83.0.tar.gz PackageFileSize: 1.511 MiB