Package: maSigPro Version: 1.83.0 Command: /Library/Frameworks/R.framework/Resources/bin/R CMD INSTALL maSigPro StartedAt: 2025-11-14 15:07:19 -0500 (Fri, 14 Nov 2025) EndedAt: 2025-11-14 15:07:21 -0500 (Fri, 14 Nov 2025) EllapsedTime: 1.6 seconds RetCode: 0 Status: OK