Package: maSigPro Version: 1.83.0 Command: /Library/Frameworks/R.framework/Resources/bin/R CMD build --keep-empty-dirs --no-resave-data maSigPro StartedAt: 2025-11-14 16:50:16 -0500 (Fri, 14 Nov 2025) EndedAt: 2025-11-14 16:50:20 -0500 (Fri, 14 Nov 2025) EllapsedTime: 4.1 seconds RetCode: 0 Status: OK PackageFile: maSigPro_1.83.0.tar.gz PackageFileSize: 1.511 MiB