Package: maPredictDSC Version: 1.49.0 Command: /home/biocbuild/bbs-3.23-bioc/R/bin/R CMD INSTALL maPredictDSC StartedAt: 2025-11-11 15:30:15 -0500 (Tue, 11 Nov 2025) EndedAt: 2025-11-11 15:30:39 -0500 (Tue, 11 Nov 2025) EllapsedTime: 24.3 seconds RetCode: 0 Status: OK