Package: maPredictDSC Version: 1.49.0 Command: /home/biocbuild/bbs-3.23-bioc/R/bin/R CMD build --keep-empty-dirs --no-resave-data maPredictDSC StartedAt: 2025-11-13 18:24:26 -0500 (Thu, 13 Nov 2025) EndedAt: 2025-11-13 18:25:50 -0500 (Thu, 13 Nov 2025) EllapsedTime: 84.1 seconds RetCode: 0 Status: OK PackageFile: maPredictDSC_1.49.0.tar.gz PackageFileSize: 197.8 KiB