Package: maPredictDSC Version: 1.49.0 Command: /Library/Frameworks/R.framework/Resources/bin/R CMD INSTALL maPredictDSC StartedAt: 2025-11-13 15:09:02 -0500 (Thu, 13 Nov 2025) EndedAt: 2025-11-13 15:09:11 -0500 (Thu, 13 Nov 2025) EllapsedTime: 9.6 seconds RetCode: 0 Status: OK