Package: maPredictDSC Version: 1.49.0 Command: /Library/Frameworks/R.framework/Resources/bin/R CMD build --keep-empty-dirs --no-resave-data maPredictDSC StartedAt: 2025-11-13 16:52:46 -0500 (Thu, 13 Nov 2025) EndedAt: 2025-11-13 16:53:23 -0500 (Thu, 13 Nov 2025) EllapsedTime: 36.4 seconds RetCode: 0 Status: OK PackageFile: maPredictDSC_1.49.0.tar.gz PackageFileSize: 197.8 KiB