Package: maPredictDSC Version: 1.49.0 Command: rm -rf maPredictDSC.buildbin-libdir && mkdir maPredictDSC.buildbin-libdir && /Users/biocbuild/BBS/utils/build-universal.sh maPredictDSC_1.49.0.tar.gz /Library/Frameworks/R.framework/Resources/bin/R maPredictDSC.buildbin-libdir StartedAt: 2025-11-13 23:43:47 -0500 (Thu, 13 Nov 2025) EndedAt: 2025-11-13 23:44:00 -0500 (Thu, 13 Nov 2025) EllapsedTime: 12.3 seconds RetCode: 0 Status: OK PackageFile: maPredictDSC_1.49.0.tgz PackageFileSize: 229.5 KiB