Package: maPredictDSC Version: 1.49.0 Maintainer: Adi Laurentiu Tarca MaintainerEmail: atarca at med.wayne.edu git_url: https://git.bioconductor.org/packages/maPredictDSC git_branch: devel git_last_commit: befed4f git_last_commit_date: 2025-10-29 10:15:22 -0500 (Wed, 29 Oct 2025)