Package: maCorrPlot Version: 1.81.0 Command: /home/biocbuild/bbs-3.23-bioc/R/bin/R CMD build --keep-empty-dirs --no-resave-data maCorrPlot StartedAt: 2025-11-14 18:22:54 -0500 (Fri, 14 Nov 2025) EndedAt: 2025-11-14 18:23:00 -0500 (Fri, 14 Nov 2025) EllapsedTime: 6.0 seconds RetCode: 0 Status: OK PackageFile: maCorrPlot_1.81.0.tar.gz PackageFileSize: 1.265 MiB