Package: maCorrPlot Version: 1.81.0 Command: /Library/Frameworks/R.framework/Resources/bin/R CMD INSTALL maCorrPlot StartedAt: 2025-11-14 15:02:56 -0500 (Fri, 14 Nov 2025) EndedAt: 2025-11-14 15:03:06 -0500 (Fri, 14 Nov 2025) EllapsedTime: 9.4 seconds RetCode: 0 Status: OK