Package: maCorrPlot Version: 1.81.0 Command: /Library/Frameworks/R.framework/Resources/bin/R CMD build --keep-empty-dirs --no-resave-data maCorrPlot StartedAt: 2025-11-14 16:48:53 -0500 (Fri, 14 Nov 2025) EndedAt: 2025-11-14 16:48:57 -0500 (Fri, 14 Nov 2025) EllapsedTime: 4.1 seconds RetCode: 0 Status: OK PackageFile: maCorrPlot_1.81.0.tar.gz PackageFileSize: 1.265 MiB