Package: maCorrPlot Version: 1.81.0 Command: rm -rf maCorrPlot.buildbin-libdir && mkdir maCorrPlot.buildbin-libdir && /Users/biocbuild/BBS/utils/build-universal.sh maCorrPlot_1.81.0.tar.gz /Library/Frameworks/R.framework/Resources/bin/R maCorrPlot.buildbin-libdir StartedAt: 2025-11-14 23:38:42 -0500 (Fri, 14 Nov 2025) EndedAt: 2025-11-14 23:38:44 -0500 (Fri, 14 Nov 2025) EllapsedTime: 2.0 seconds RetCode: 0 Status: OK PackageFile: maCorrPlot_1.81.0.tgz PackageFileSize: 1.169 MiB