Package: maCorrPlot Version: 1.81.0 Maintainer: Alexander Ploner MaintainerEmail: Alexander.Ploner at ki.se git_url: https://git.bioconductor.org/packages/maCorrPlot git_branch: devel git_last_commit: 788060f git_last_commit_date: 2025-10-29 09:57:55 -0500 (Wed, 29 Oct 2025)