Package: mCSEA Version: 1.31.1 Command: /home/biocbuild/bbs-3.23-bioc/R/bin/R CMD INSTALL mCSEA StartedAt: 2025-11-14 15:59:46 -0500 (Fri, 14 Nov 2025) EndedAt: 2025-11-14 16:00:24 -0500 (Fri, 14 Nov 2025) EllapsedTime: 38.5 seconds RetCode: 0 Status: OK