Package: mCSEA Version: 1.31.1 Command: /home/biocbuild/bbs-3.23-bioc/R/bin/R CMD build --keep-empty-dirs --no-resave-data mCSEA StartedAt: 2025-11-16 18:33:06 -0500 (Sun, 16 Nov 2025) EndedAt: 2025-11-16 18:35:33 -0500 (Sun, 16 Nov 2025) EllapsedTime: 147.2 seconds RetCode: 1 Status: ERROR PackageFile: None PackageFileSize: NA