Package: mCSEA Version: 1.31.1 Command: /Library/Frameworks/R.framework/Resources/bin/R CMD INSTALL mCSEA StartedAt: 2025-11-14 15:31:27 -0500 (Fri, 14 Nov 2025) EndedAt: 2025-11-14 15:31:43 -0500 (Fri, 14 Nov 2025) EllapsedTime: 15.3 seconds RetCode: 0 Status: OK