Package: mCSEA Version: 1.31.1 Command: /Library/Frameworks/R.framework/Resources/bin/R CMD build --keep-empty-dirs --no-resave-data mCSEA StartedAt: 2025-11-14 16:51:50 -0500 (Fri, 14 Nov 2025) EndedAt: 2025-11-14 16:52:54 -0500 (Fri, 14 Nov 2025) EllapsedTime: 64.8 seconds RetCode: 1 Status: ERROR PackageFile: None PackageFileSize: NA