Package: mCSEA Version: 1.31.1 Maintainer: Jordi Martorell-Marugán MaintainerEmail: jmartorellm at gmail.com git_url: https://git.bioconductor.org/packages/mCSEA git_branch: devel git_last_commit: 191deb9 git_last_commit_date: 2025-11-12 03:57:24 -0500 (Wed, 12 Nov 2025)