Package: mBPCR Version: 1.65.0 Command: /home/biocbuild/bbs-3.23-bioc/R/bin/R CMD INSTALL mBPCR StartedAt: 2025-11-11 15:24:35 -0500 (Tue, 11 Nov 2025) EndedAt: 2025-11-11 15:25:05 -0500 (Tue, 11 Nov 2025) EllapsedTime: 30.2 seconds RetCode: 0 Status: OK