Package: mBPCR Version: 1.65.0 Command: /home/biocbuild/bbs-3.23-bioc/R/bin/R CMD build --keep-empty-dirs --no-resave-data mBPCR StartedAt: 2025-11-11 18:32:10 -0500 (Tue, 11 Nov 2025) EndedAt: 2025-11-11 18:33:05 -0500 (Tue, 11 Nov 2025) EllapsedTime: 55.1 seconds RetCode: 0 Status: OK PackageFile: mBPCR_1.65.0.tar.gz PackageFileSize: 835.7 KiB