Package: mBPCR Version: 1.65.0 Maintainer: P.M.V. Rancoita MaintainerEmail: rancoita.paola at gmail.com git_url: https://git.bioconductor.org/packages/mBPCR git_branch: devel git_last_commit: 1aad86f git_last_commit_date: 2025-10-29 10:03:21 -0500 (Wed, 29 Oct 2025)