Package: m6Aboost Version: 1.17.0 Command: /Library/Frameworks/R.framework/Resources/bin/R CMD INSTALL m6Aboost StartedAt: 2025-11-13 15:33:02 -0500 (Thu, 13 Nov 2025) EndedAt: 2025-11-13 15:33:20 -0500 (Thu, 13 Nov 2025) EllapsedTime: 17.7 seconds RetCode: 0 Status: OK