Package: m6Aboost Version: 1.17.0 Command: rm -rf m6Aboost.buildbin-libdir && mkdir m6Aboost.buildbin-libdir && /Users/biocbuild/BBS/utils/build-universal.sh m6Aboost_1.17.0.tar.gz /Library/Frameworks/R.framework/Resources/bin/R m6Aboost.buildbin-libdir StartedAt: 2025-11-13 23:43:34 -0500 (Thu, 13 Nov 2025) EndedAt: 2025-11-13 23:43:56 -0500 (Thu, 13 Nov 2025) EllapsedTime: 21.5 seconds RetCode: 0 Status: OK PackageFile: m6Aboost_1.17.0.tgz PackageFileSize: 575.1 KiB