Package: m6Aboost Version: 1.17.0 Maintainer: You Zhou MaintainerEmail: youzhoulearning at gmail.com git_url: https://git.bioconductor.org/packages/m6Aboost git_branch: devel git_last_commit: c8944d2 git_last_commit_date: 2025-10-29 11:10:16 -0500 (Wed, 29 Oct 2025)