Package: lute Version: 1.5.1 Command: /home/biocbuild/bbs-3.23-bioc/R/bin/R CMD INSTALL lute StartedAt: 2025-10-22 21:40:38 -0000 (Wed, 22 Oct 2025) EndedAt: 2025-10-22 21:41:09 -0000 (Wed, 22 Oct 2025) EllapsedTime: 31.5 seconds RetCode: 0 Status: OK