Package: lute Version: 1.5.1 Command: /home/biocbuild/bbs-3.23-bioc/R/bin/R CMD build --keep-empty-dirs --no-resave-data lute StartedAt: 2025-10-22 23:29:09 -0000 (Wed, 22 Oct 2025) EndedAt: 2025-10-22 23:29:55 -0000 (Wed, 22 Oct 2025) EllapsedTime: 46.1 seconds RetCode: 0 Status: OK PackageFile: lute_1.5.1.tar.gz PackageFileSize: 2.279 MiB