Package: lpNet Version: 2.43.0 Command: /home/biocbuild/bbs-3.23-bioc/R/bin/R CMD INSTALL lpNet StartedAt: 2025-11-11 15:19:03 -0500 (Tue, 11 Nov 2025) EndedAt: 2025-11-11 15:19:08 -0500 (Tue, 11 Nov 2025) EllapsedTime: 5.6 seconds RetCode: 0 Status: OK