Package: lpNet Version: 2.43.0 Command: /home/biocbuild/bbs-3.23-bioc/R/bin/R CMD build --keep-empty-dirs --no-resave-data lpNet StartedAt: 2025-11-13 18:21:44 -0500 (Thu, 13 Nov 2025) EndedAt: 2025-11-13 18:22:13 -0500 (Thu, 13 Nov 2025) EllapsedTime: 29.0 seconds RetCode: 0 Status: OK PackageFile: lpNet_2.43.0.tar.gz PackageFileSize: 308.3 KiB