Package: lpNet Version: 2.43.0 Command: /Library/Frameworks/R.framework/Resources/bin/R CMD build --keep-empty-dirs --no-resave-data lpNet StartedAt: 2025-11-12 16:36:45 -0500 (Wed, 12 Nov 2025) EndedAt: 2025-11-12 16:36:58 -0500 (Wed, 12 Nov 2025) EllapsedTime: 13.2 seconds RetCode: 0 Status: OK PackageFile: lpNet_2.43.0.tar.gz PackageFileSize: 308 KiB