Package: lpNet Version: 2.43.0 Command: rm -rf lpNet.buildbin-libdir && mkdir lpNet.buildbin-libdir && /Users/biocbuild/BBS/utils/build-universal.sh lpNet_2.43.0.tar.gz /Library/Frameworks/R.framework/Resources/bin/R lpNet.buildbin-libdir StartedAt: 2025-11-12 21:01:32 -0500 (Wed, 12 Nov 2025) EndedAt: 2025-11-12 21:01:36 -0500 (Wed, 12 Nov 2025) EllapsedTime: 4.1 seconds RetCode: 0 Status: OK PackageFile: lpNet_2.43.0.tgz PackageFileSize: 406.1 KiB