Package: lpNet Version: 2.43.0 Maintainer: Lars Kaderali MaintainerEmail: lars.kaderali at uni-greifswald.de git_url: https://git.bioconductor.org/packages/lpNet git_branch: devel git_last_commit: 6f7eee9 git_last_commit_date: 2025-10-29 10:13:37 -0500 (Wed, 29 Oct 2025)