Package: looking4clusters Version: 1.1.0 Command: /home/biocbuild/bbs-3.23-bioc/R/bin/R CMD INSTALL looking4clusters StartedAt: 2025-11-11 15:28:49 -0500 (Tue, 11 Nov 2025) EndedAt: 2025-11-11 15:28:50 -0500 (Tue, 11 Nov 2025) EllapsedTime: 1.7 seconds RetCode: 0 Status: OK