Package: looking4clusters Version: 1.1.0 Command: /home/biocbuild/bbs-3.23-bioc/R/bin/R CMD build --keep-empty-dirs --no-resave-data looking4clusters StartedAt: 2025-11-13 18:21:36 -0500 (Thu, 13 Nov 2025) EndedAt: 2025-11-13 18:23:22 -0500 (Thu, 13 Nov 2025) EllapsedTime: 106.1 seconds RetCode: 0 Status: OK PackageFile: looking4clusters_1.1.0.tar.gz PackageFileSize: 1.591 MiB