Package: looking4clusters Version: 1.1.0 Command: /Library/Frameworks/R.framework/Resources/bin/R CMD INSTALL looking4clusters StartedAt: 2025-11-12 15:28:00 -0500 (Wed, 12 Nov 2025) EndedAt: 2025-11-12 15:28:01 -0500 (Wed, 12 Nov 2025) EllapsedTime: 1.2 seconds RetCode: 0 Status: OK