Package: looking4clusters Version: 1.1.0 Command: /Library/Frameworks/R.framework/Resources/bin/R CMD build --keep-empty-dirs --no-resave-data looking4clusters StartedAt: 2025-11-13 16:51:24 -0500 (Thu, 13 Nov 2025) EndedAt: 2025-11-13 16:51:57 -0500 (Thu, 13 Nov 2025) EllapsedTime: 32.4 seconds RetCode: 0 Status: OK PackageFile: looking4clusters_1.1.0.tar.gz PackageFileSize: 1.591 MiB