Package: looking4clusters Version: 1.1.0 Maintainer: David Barrios MaintainerEmail: metal at usal.es git_url: https://git.bioconductor.org/packages/looking4clusters git_branch: devel git_last_commit: 7fb974e git_last_commit_date: 2025-10-29 11:38:18 -0500 (Wed, 29 Oct 2025)