Package: logicFS Version: 2.31.0 Command: /home/biocbuild/bbs-3.23-bioc/R/bin/R CMD INSTALL logicFS StartedAt: 2025-11-13 15:05:14 -0500 (Thu, 13 Nov 2025) EndedAt: 2025-11-13 15:05:27 -0500 (Thu, 13 Nov 2025) EllapsedTime: 13.7 seconds RetCode: 0 Status: OK