Package: logicFS Version: 2.31.0 Command: /Library/Frameworks/R.framework/Resources/bin/R CMD INSTALL logicFS StartedAt: 2025-11-13 15:03:07 -0500 (Thu, 13 Nov 2025) EndedAt: 2025-11-13 15:03:13 -0500 (Thu, 13 Nov 2025) EllapsedTime: 5.5 seconds RetCode: 0 Status: OK