Package: logicFS Version: 2.31.0 Command: /Library/Frameworks/R.framework/Resources/bin/R CMD build --keep-empty-dirs --no-resave-data logicFS StartedAt: 2025-11-13 16:51:21 -0500 (Thu, 13 Nov 2025) EndedAt: 2025-11-13 16:51:28 -0500 (Thu, 13 Nov 2025) EllapsedTime: 7.1 seconds RetCode: 0 Status: OK PackageFile: logicFS_2.31.0.tar.gz PackageFileSize: 260.1 KiB