Package: logicFS Version: 2.31.0 Maintainer: Holger Schwender MaintainerEmail: holger.schw at gmx.de git_url: https://git.bioconductor.org/packages/logicFS git_branch: devel git_last_commit: 5889bdc git_last_commit_date: 2025-10-29 09:58:04 -0500 (Wed, 29 Oct 2025)