Package: loci2path Version: 1.31.0 Command: /Library/Frameworks/R.framework/Resources/bin/R CMD INSTALL loci2path StartedAt: 2025-11-21 15:10:30 -0500 (Fri, 21 Nov 2025) EndedAt: 2025-11-21 15:10:35 -0500 (Fri, 21 Nov 2025) EllapsedTime: 4.8 seconds RetCode: 0 Status: OK